BEGIN:VCALENDAR
VERSION:2.0
PRODID:-//Pride Estimating &amp; Appraisal Services - ECPv6.15.20//NONSGML v1.0//EN
CALSCALE:GREGORIAN
METHOD:PUBLISH
X-WR-CALNAME:Pride Estimating &amp; Appraisal Services
X-ORIGINAL-URL:https://prideestimating.com
X-WR-CALDESC:Events for Pride Estimating &amp; Appraisal Services
REFRESH-INTERVAL;VALUE=DURATION:PT1H
X-Robots-Tag:noindex
X-PUBLISHED-TTL:PT1H
BEGIN:VTIMEZONE
TZID:America/New_York
BEGIN:DAYLIGHT
TZOFFSETFROM:-0500
TZOFFSETTO:-0400
TZNAME:EDT
DTSTART:20240310T070000
END:DAYLIGHT
BEGIN:STANDARD
TZOFFSETFROM:-0400
TZOFFSETTO:-0500
TZNAME:EST
DTSTART:20241103T060000
END:STANDARD
BEGIN:DAYLIGHT
TZOFFSETFROM:-0500
TZOFFSETTO:-0400
TZNAME:EDT
DTSTART:20250309T070000
END:DAYLIGHT
BEGIN:STANDARD
TZOFFSETFROM:-0400
TZOFFSETTO:-0500
TZNAME:EST
DTSTART:20251102T060000
END:STANDARD
BEGIN:DAYLIGHT
TZOFFSETFROM:-0500
TZOFFSETTO:-0400
TZNAME:EDT
DTSTART:20260308T070000
END:DAYLIGHT
BEGIN:STANDARD
TZOFFSETFROM:-0400
TZOFFSETTO:-0500
TZNAME:EST
DTSTART:20261101T060000
END:STANDARD
END:VTIMEZONE
BEGIN:VEVENT
DTSTART;TZID=America/New_York:20251204T090000
DTEND;TZID=America/New_York:20251206T170000
DTSTAMP:20260422T095949
CREATED:20250214T011847Z
LAST-MODIFIED:20251012T014234Z
UID:25502-1764838800-1765040400@prideestimating.com
SUMMARY:Xactimate Training - 3 Day Level 1 and 2 Class LIVE IN PERSON
DESCRIPTION:Registration for this xactimate training session is $1295.00. Students in this course will learn skills to quickly create accurate estimates using a variety of Xactimate tools. Students will be taught how to set up\, dimension\, scope\, and print estimates through valuable hands-on training. The course also prepares students for the Level 1 and 2 certification exams. \nExact location is Tampa Florida.
URL:https://prideestimating.com/event/xactimate-training-3-day-level-1-and-2-class-live-in-person-3/
LOCATION:Tampa Bay Area\, Tampa Bay area
CATEGORIES:Continuing Education,Xactimate Training
ORGANIZER;CN="Pride Estimating and Appraisal":MAILTO:jason@prideestimating.com
END:VEVENT
END:VCALENDAR